Package: DirichletMultinomial Version: 1.44.0 Command: rm -rf DirichletMultinomial.buildbin-libdir && mkdir DirichletMultinomial.buildbin-libdir && F:\biocbuild\bbs-3.18-bioc\R\bin\R.exe CMD INSTALL --build --library=DirichletMultinomial.buildbin-libdir DirichletMultinomial_1.44.0.tar.gz StartedAt: 2024-04-16 06:55:52 -0400 (Tue, 16 Apr 2024) EndedAt: 2024-04-16 06:56:11 -0400 (Tue, 16 Apr 2024) EllapsedTime: 19.9 seconds RetCode: 0 Status: OK PackageFile: DirichletMultinomial_1.44.0.zip PackageFileSize: 805.8 KiB