Package: DirichletMultinomial Version: 1.44.0 Command: /Library/Frameworks/R.framework/Resources/bin/R CMD INSTALL DirichletMultinomial StartedAt: 2024-04-15 15:10:32 -0400 (Mon, 15 Apr 2024) EndedAt: 2024-04-15 15:11:01 -0400 (Mon, 15 Apr 2024) EllapsedTime: 28.8 seconds RetCode: 0 Status: OK