Package: DirichletMultinomial Version: 1.44.0 Command: /Library/Frameworks/R.framework/Resources/bin/R CMD build --keep-empty-dirs --no-resave-data DirichletMultinomial StartedAt: 2024-04-15 18:19:12 -0400 (Mon, 15 Apr 2024) EndedAt: 2024-04-15 18:19:54 -0400 (Mon, 15 Apr 2024) EllapsedTime: 41.6 seconds RetCode: 0 Status: OK PackageFile: DirichletMultinomial_1.44.0.tar.gz PackageFileSize: 429.9 KiB