Package: DirichletMultinomial Version: 1.44.0 Command: rm -rf DirichletMultinomial.buildbin-libdir && mkdir DirichletMultinomial.buildbin-libdir && /Users/biocbuild/BBS/utils/build-universal.sh DirichletMultinomial_1.44.0.tar.gz /Library/Frameworks/R.framework/Resources/bin/R DirichletMultinomial.buildbin-libdir StartedAt: 2024-04-16 11:31:32 -0400 (Tue, 16 Apr 2024) EndedAt: 2024-04-16 11:32:02 -0400 (Tue, 16 Apr 2024) EllapsedTime: 30.5 seconds RetCode: 0 Status: OK PackageFile: DirichletMultinomial_1.44.0.tgz PackageFileSize: 880.5 KiB