Package: Director Version: 1.28.0 Command: /home/biocbuild/bbs-3.18-bioc/R/bin/R CMD build --keep-empty-dirs --no-resave-data Director StartedAt: 2024-04-15 16:51:24 -0400 (Mon, 15 Apr 2024) EndedAt: 2024-04-15 16:51:30 -0400 (Mon, 15 Apr 2024) EllapsedTime: 6.6 seconds RetCode: 0 Status: OK PackageFile: Director_1.28.0.tar.gz PackageFileSize: 598.7 KiB