Package: Director Version: 1.28.0 Command: /Library/Frameworks/R.framework/Resources/bin/R CMD INSTALL Director StartedAt: 2024-04-15 15:39:30 -0400 (Mon, 15 Apr 2024) EndedAt: 2024-04-15 15:39:37 -0400 (Mon, 15 Apr 2024) EllapsedTime: 6.8 seconds RetCode: 0 Status: OK