Package: Dino Version: 1.8.0 Command: F:\biocbuild\bbs-3.18-bioc\R\bin\R.exe CMD check --no-multiarch --install=check:Dino.install-out.txt --library=F:\biocbuild\bbs-3.18-bioc\R\library --no-vignettes --timings Dino_1.8.0.tar.gz StartedAt: 2024-04-16 00:13:37 -0400 (Tue, 16 Apr 2024) EndedAt: 2024-04-16 00:24:11 -0400 (Tue, 16 Apr 2024) EllapsedTime: 634.0 seconds RetCode: 0 Status: OK CheckDir: Dino.Rcheck Warnings: 0