Package: Dino Version: 1.8.0 Command: rm -rf Dino.buildbin-libdir && mkdir Dino.buildbin-libdir && F:\biocbuild\bbs-3.18-bioc\R\bin\R.exe CMD INSTALL --build --library=Dino.buildbin-libdir Dino_1.8.0.tar.gz StartedAt: 2024-04-16 06:55:47 -0400 (Tue, 16 Apr 2024) EndedAt: 2024-04-16 06:56:46 -0400 (Tue, 16 Apr 2024) EllapsedTime: 59.3 seconds RetCode: 0 Status: OK PackageFile: Dino_1.8.0.zip PackageFileSize: 962.3 KiB