Package: Dino Version: 1.8.0 Command: /Library/Frameworks/R.framework/Resources/bin/R CMD INSTALL Dino StartedAt: 2024-03-03 15:40:42 -0500 (Sun, 03 Mar 2024) EndedAt: 2024-03-03 15:41:42 -0500 (Sun, 03 Mar 2024) EllapsedTime: 59.8 seconds RetCode: 0 Status: OK