Package: Dino Version: 1.8.0 Command: /Library/Frameworks/R.framework/Resources/bin/R CMD check --install=check:Dino.install-out.txt --library=/Library/Frameworks/R.framework/Resources/library --no-vignettes --timings Dino_1.8.0.tar.gz StartedAt: 2024-03-03 20:13:58 -0500 (Sun, 03 Mar 2024) EndedAt: 2024-03-03 20:21:17 -0500 (Sun, 03 Mar 2024) EllapsedTime: 438.6 seconds RetCode: 0 Status: OK CheckDir: Dino.Rcheck Warnings: 0