Package: Dino Version: 1.8.0 Command: /Library/Frameworks/R.framework/Resources/bin/R CMD build --keep-empty-dirs --no-resave-data Dino StartedAt: 2024-03-03 16:32:48 -0500 (Sun, 03 Mar 2024) EndedAt: 2024-03-03 16:35:02 -0500 (Sun, 03 Mar 2024) EllapsedTime: 134.2 seconds RetCode: 0 Status: OK PackageFile: Dino_1.8.0.tar.gz PackageFileSize: 1.402 MiB