Package: DifferentialRegulation Version: 2.0.3 Command: /Library/Frameworks/R.framework/Resources/bin/R CMD INSTALL DifferentialRegulation StartedAt: 2024-04-15 15:40:42 -0400 (Mon, 15 Apr 2024) EndedAt: 2024-04-15 15:42:35 -0400 (Mon, 15 Apr 2024) EllapsedTime: 112.4 seconds RetCode: 0 Status: OK