Package: DiffLogo Version: 2.26.0 Command: chmod a+r DiffLogo -R && F:\biocbuild\bbs-3.18-bioc\R\bin\R.exe CMD build --keep-empty-dirs --no-resave-data DiffLogo StartedAt: 2024-04-15 18:03:05 -0400 (Mon, 15 Apr 2024) EndedAt: 2024-04-15 18:04:06 -0400 (Mon, 15 Apr 2024) EllapsedTime: 61.9 seconds RetCode: 0 Status: OK PackageFile: DiffLogo_2.26.0.tar.gz PackageFileSize: 816.8 KiB