Package: DiffLogo Version: 2.26.0 Command: rm -rf DiffLogo.buildbin-libdir && mkdir DiffLogo.buildbin-libdir && F:\biocbuild\bbs-3.18-bioc\R\bin\R.exe CMD INSTALL --build --library=DiffLogo.buildbin-libdir DiffLogo_2.26.0.tar.gz StartedAt: 2024-04-16 06:55:38 -0400 (Tue, 16 Apr 2024) EndedAt: 2024-04-16 06:55:47 -0400 (Tue, 16 Apr 2024) EllapsedTime: 8.9 seconds RetCode: 0 Status: OK PackageFile: DiffLogo_2.26.0.zip PackageFileSize: 974.8 KiB