Package: DiffBind Version: 3.12.0 Command: chmod a+r DiffBind -R && F:\biocbuild\bbs-3.18-bioc\R\bin\R.exe CMD build --keep-empty-dirs --no-resave-data DiffBind StartedAt: 2024-04-15 18:02:27 -0400 (Mon, 15 Apr 2024) EndedAt: 2024-04-15 18:07:14 -0400 (Mon, 15 Apr 2024) EllapsedTime: 286.2 seconds RetCode: 0 Status: OK PackageFile: DiffBind_3.12.0.tar.gz PackageFileSize: 6.488 MiB