Package: DepecheR Version: 1.18.0 Command: rm -rf DepecheR.buildbin-libdir && mkdir DepecheR.buildbin-libdir && /Users/biocbuild/BBS/utils/build-universal.sh DepecheR_1.18.0.tar.gz /Library/Frameworks/R.framework/Resources/bin/R DepecheR.buildbin-libdir StartedAt: 2024-04-16 11:29:17 -0400 (Tue, 16 Apr 2024) EndedAt: 2024-04-16 11:31:09 -0400 (Tue, 16 Apr 2024) EllapsedTime: 112.2 seconds RetCode: 0 Status: OK PackageFile: DepecheR_1.18.0.tgz PackageFileSize: 2.741 MiB