Package: DepInfeR Version: 1.6.0 Command: F:\biocbuild\bbs-3.18-bioc\R\bin\R.exe CMD INSTALL DepInfeR StartedAt: 2024-04-15 16:21:34 -0400 (Mon, 15 Apr 2024) EndedAt: 2024-04-15 16:21:45 -0400 (Mon, 15 Apr 2024) EllapsedTime: 11.6 seconds RetCode: 0 Status: OK