Package: DelayedRandomArray Version: 1.10.0 Command: /Library/Frameworks/R.framework/Resources/bin/R CMD build --keep-empty-dirs --no-resave-data DelayedRandomArray StartedAt: 2024-03-03 16:28:35 -0500 (Sun, 03 Mar 2024) EndedAt: 2024-03-03 16:29:33 -0500 (Sun, 03 Mar 2024) EllapsedTime: 57.8 seconds RetCode: 0 Status: OK PackageFile: DelayedRandomArray_1.10.0.tar.gz PackageFileSize: 318.4 KiB