Package: DelayedDataFrame Version: 1.18.0 Command: rm -rf DelayedDataFrame.buildbin-libdir && mkdir DelayedDataFrame.buildbin-libdir && /Users/biocbuild/BBS/utils/build-universal.sh DelayedDataFrame_1.18.0.tar.gz /Library/Frameworks/R.framework/Resources/bin/R DelayedDataFrame.buildbin-libdir StartedAt: 2024-03-04 00:37:28 -0500 (Mon, 04 Mar 2024) EndedAt: 2024-03-04 00:37:56 -0500 (Mon, 04 Mar 2024) EllapsedTime: 28.1 seconds RetCode: 0 Status: OK PackageFile: DelayedDataFrame_1.18.0.tgz PackageFileSize: 912.4 KiB