Package: DelayedArray Version: 0.28.0 Command: /Library/Frameworks/R.framework/Resources/bin/R CMD INSTALL DelayedArray StartedAt: 2024-04-15 15:13:27 -0400 (Mon, 15 Apr 2024) EndedAt: 2024-04-15 15:14:33 -0400 (Mon, 15 Apr 2024) EllapsedTime: 66.9 seconds RetCode: 0 Status: OK