Package: DelayedArray Version: 0.28.0 Command: /home/biocbuild/R/R-4.3.1/bin/R CMD build --keep-empty-dirs --no-resave-data DelayedArray StartedAt: 2023-11-02 00:09:16 -0000 (Thu, 02 Nov 2023) EndedAt: 2023-11-02 00:10:24 -0000 (Thu, 02 Nov 2023) EllapsedTime: 68.1 seconds RetCode: 0 Status: OK PackageFile: DelayedArray_0.28.0.tar.gz PackageFileSize: 786.5 KiB