Package: DegNorm Version: 1.12.0 Command: rm -rf DegNorm.buildbin-libdir && mkdir DegNorm.buildbin-libdir && /Users/biocbuild/BBS/utils/build-universal.sh DegNorm_1.12.0.tar.gz /Library/Frameworks/R.framework/Resources/bin/R DegNorm.buildbin-libdir StartedAt: 2024-04-16 11:27:25 -0400 (Tue, 16 Apr 2024) EndedAt: 2024-04-16 11:30:37 -0400 (Tue, 16 Apr 2024) EllapsedTime: 192.2 seconds RetCode: 0 Status: OK PackageFile: DegNorm_1.12.0.tgz PackageFileSize: 3.253 MiB