Package: DeepBlueR Version: 1.27.0 Command: /Library/Frameworks/R.framework/Resources/bin/R CMD check --install=check:DeepBlueR.install-out.txt --library=/Library/Frameworks/R.framework/Resources/library --no-vignettes --timings DeepBlueR_1.27.0.tar.gz StartedAt: 2023-05-29 19:17:05 -0400 (Mon, 29 May 2023) EndedAt: 2023-05-29 19:22:21 -0400 (Mon, 29 May 2023) EllapsedTime: 316.5 seconds RetCode: 0 Status: OK CheckDir: DeepBlueR.Rcheck Warnings: 0