Package: DeepBlueR Version: 1.28.0 Command: /Library/Frameworks/R.framework/Resources/bin/R CMD build --keep-empty-dirs --no-resave-data DeepBlueR StartedAt: 2024-03-03 16:27:35 -0500 (Sun, 03 Mar 2024) EndedAt: 2024-03-03 16:27:51 -0500 (Sun, 03 Mar 2024) EllapsedTime: 15.8 seconds RetCode: 1 Status: ERROR PackageFile: None PackageFileSize: NA