Package: DeconRNASeq Version: 1.44.0 Command: F:\biocbuild\bbs-3.18-bioc\R\bin\R.exe CMD check --no-multiarch --install=check:DeconRNASeq.install-out.txt --library=F:\biocbuild\bbs-3.18-bioc\R\library --no-vignettes --timings DeconRNASeq_1.44.0.tar.gz StartedAt: 2024-04-15 23:57:01 -0400 (Mon, 15 Apr 2024) EndedAt: 2024-04-15 23:57:43 -0400 (Mon, 15 Apr 2024) EllapsedTime: 42.6 seconds RetCode: 0 Status: OK CheckDir: DeconRNASeq.Rcheck Warnings: 0