Package: DTA Version: 2.48.0 Command: /home/biocbuild/bbs-3.18-bioc/R/bin/R CMD build --keep-empty-dirs --no-resave-data DTA StartedAt: 2024-04-15 16:54:44 -0400 (Mon, 15 Apr 2024) EndedAt: 2024-04-15 16:59:28 -0400 (Mon, 15 Apr 2024) EllapsedTime: 284.7 seconds RetCode: 0 Status: OK PackageFile: DTA_2.48.0.tar.gz PackageFileSize: 10.49 MiB