Package: DSS Version: 2.50.1 Command: /home/biocbuild/bbs-3.18-bioc/R/bin/R CMD check --install=check:DSS.install-out.txt --library=/home/biocbuild/bbs-3.18-bioc/R/site-library --timings DSS_2.50.1.tar.gz StartedAt: 2024-04-15 22:20:33 -0400 (Mon, 15 Apr 2024) EndedAt: 2024-04-15 22:25:38 -0400 (Mon, 15 Apr 2024) EllapsedTime: 305.4 seconds RetCode: 0 Status: WARNINGS CheckDir: DSS.Rcheck Warnings: 1