Package: DSS Version: 2.50.1 Command: /home/biocbuild/bbs-3.18-bioc/R/bin/R CMD build --keep-empty-dirs --no-resave-data DSS StartedAt: 2024-04-15 16:54:35 -0400 (Mon, 15 Apr 2024) EndedAt: 2024-04-15 16:55:34 -0400 (Mon, 15 Apr 2024) EllapsedTime: 59.0 seconds RetCode: 0 Status: OK PackageFile: DSS_2.50.1.tar.gz PackageFileSize: 2.029 MiB