Package: DRIMSeq Version: 1.30.0 Command: rm -rf DRIMSeq.buildbin-libdir && mkdir DRIMSeq.buildbin-libdir && F:\biocbuild\bbs-3.18-bioc\R\bin\R.exe CMD INSTALL --build --library=DRIMSeq.buildbin-libdir DRIMSeq_1.30.0.tar.gz StartedAt: 2024-04-16 06:56:50 -0400 (Tue, 16 Apr 2024) EndedAt: 2024-04-16 06:57:15 -0400 (Tue, 16 Apr 2024) EllapsedTime: 24.9 seconds RetCode: 0 Status: OK PackageFile: DRIMSeq_1.30.0.zip PackageFileSize: 782.6 KiB