Package: DRIMSeq Version: 1.30.0 Command: /home/biocbuild/bbs-3.18-bioc/R/bin/R CMD build --keep-empty-dirs --no-resave-data DRIMSeq StartedAt: 2024-04-15 16:54:04 -0400 (Mon, 15 Apr 2024) EndedAt: 2024-04-15 16:56:19 -0400 (Mon, 15 Apr 2024) EllapsedTime: 134.9 seconds RetCode: 0 Status: OK PackageFile: DRIMSeq_1.30.0.tar.gz PackageFileSize: 481.4 KiB