Package: DRIMSeq Version: 1.30.0 Command: /Library/Frameworks/R.framework/Resources/bin/R CMD INSTALL DRIMSeq StartedAt: 2024-04-15 15:25:28 -0400 (Mon, 15 Apr 2024) EndedAt: 2024-04-15 15:26:02 -0400 (Mon, 15 Apr 2024) EllapsedTime: 33.7 seconds RetCode: 0 Status: OK