Package: DRIMSeq Version: 1.30.0 Command: /Library/Frameworks/R.framework/Resources/bin/R CMD check --install=check:DRIMSeq.install-out.txt --library=/Library/Frameworks/R.framework/Resources/library --no-vignettes --timings DRIMSeq_1.30.0.tar.gz StartedAt: 2024-03-03 20:18:55 -0500 (Sun, 03 Mar 2024) EndedAt: 2024-03-03 20:22:57 -0500 (Sun, 03 Mar 2024) EllapsedTime: 242.0 seconds RetCode: 0 Status: WARNINGS CheckDir: DRIMSeq.Rcheck Warnings: 1