Package: DRIMSeq Version: 1.30.0 Command: /Library/Frameworks/R.framework/Resources/bin/R CMD build --keep-empty-dirs --no-resave-data DRIMSeq StartedAt: 2024-03-03 16:35:50 -0500 (Sun, 03 Mar 2024) EndedAt: 2024-03-03 16:38:35 -0500 (Sun, 03 Mar 2024) EllapsedTime: 164.9 seconds RetCode: 0 Status: OK PackageFile: DRIMSeq_1.30.0.tar.gz PackageFileSize: 480.9 KiB