Package: DOSE Version: 3.28.2 Command: /Library/Frameworks/R.framework/Resources/bin/R CMD check --install=check:DOSE.install-out.txt --library=/Library/Frameworks/R.framework/Resources/library --no-vignettes --timings DOSE_3.28.2.tar.gz StartedAt: 2024-03-03 20:17:39 -0500 (Sun, 03 Mar 2024) EndedAt: 2024-03-03 20:21:39 -0500 (Sun, 03 Mar 2024) EllapsedTime: 240.4 seconds RetCode: 0 Status: OK CheckDir: DOSE.Rcheck Warnings: 0