Package: DNAshapeR Version: 1.30.0 Command: F:\biocbuild\bbs-3.18-bioc\R\bin\R.exe CMD INSTALL DNAshapeR StartedAt: 2024-04-15 15:45:26 -0400 (Mon, 15 Apr 2024) EndedAt: 2024-04-15 15:46:29 -0400 (Mon, 15 Apr 2024) EllapsedTime: 63.2 seconds RetCode: 0 Status: OK