Package: DNAshapeR Version: 1.30.0 Command: /home/biocbuild/bbs-3.18-bioc/R/bin/R CMD check --install=check:DNAshapeR.install-out.txt --library=/home/biocbuild/bbs-3.18-bioc/R/site-library --timings DNAshapeR_1.30.0.tar.gz StartedAt: 2024-04-15 22:16:40 -0400 (Mon, 15 Apr 2024) EndedAt: 2024-04-15 22:19:32 -0400 (Mon, 15 Apr 2024) EllapsedTime: 171.6 seconds RetCode: 0 Status: OK CheckDir: DNAshapeR.Rcheck Warnings: 0