Package: DNAshapeR Version: 1.30.0 Command: rm -rf DNAshapeR.buildbin-libdir && mkdir DNAshapeR.buildbin-libdir && /Users/biocbuild/BBS/utils/build-universal.sh DNAshapeR_1.30.0.tar.gz /Library/Frameworks/R.framework/Resources/bin/R DNAshapeR.buildbin-libdir StartedAt: 2024-04-16 11:32:51 -0400 (Tue, 16 Apr 2024) EndedAt: 2024-04-16 11:35:15 -0400 (Tue, 16 Apr 2024) EllapsedTime: 143.6 seconds RetCode: 0 Status: OK PackageFile: DNAshapeR_1.30.0.tgz PackageFileSize: 1.307 MiB