Package: DNAfusion Version: 1.4.0 Command: chmod a+r DNAfusion -R && F:\biocbuild\bbs-3.18-bioc\R\bin\R.exe CMD build --keep-empty-dirs --no-resave-data DNAfusion StartedAt: 2024-04-15 18:06:32 -0400 (Mon, 15 Apr 2024) EndedAt: 2024-04-15 18:09:45 -0400 (Mon, 15 Apr 2024) EllapsedTime: 192.6 seconds RetCode: 0 Status: OK PackageFile: DNAfusion_1.4.0.tar.gz PackageFileSize: 6.297 MiB