Package: DNAcopy Version: 1.76.0 Command: /Library/Frameworks/R.framework/Resources/bin/R CMD build --keep-empty-dirs --no-resave-data DNAcopy StartedAt: 2024-04-15 18:22:32 -0400 (Mon, 15 Apr 2024) EndedAt: 2024-04-15 18:23:07 -0400 (Mon, 15 Apr 2024) EllapsedTime: 35.3 seconds RetCode: 0 Status: OK PackageFile: DNAcopy_1.76.0.tar.gz PackageFileSize: 404.6 KiB