Package: DNAcopy Version: 1.76.0 Command: /Library/Frameworks/R.framework/Resources/bin/R CMD build --keep-empty-dirs --no-resave-data DNAcopy StartedAt: 2024-03-03 16:34:15 -0500 (Sun, 03 Mar 2024) EndedAt: 2024-03-03 16:34:35 -0500 (Sun, 03 Mar 2024) EllapsedTime: 20.3 seconds RetCode: 0 Status: OK PackageFile: DNAcopy_1.76.0.tar.gz PackageFileSize: 403.9 KiB