Package: DNAcopy Version: 1.76.0 Command: rm -rf DNAcopy.buildbin-libdir && mkdir DNAcopy.buildbin-libdir && /Users/biocbuild/BBS/utils/build-universal.sh DNAcopy_1.76.0.tar.gz /Library/Frameworks/R.framework/Resources/bin/R DNAcopy.buildbin-libdir StartedAt: 2024-03-04 00:38:44 -0500 (Mon, 04 Mar 2024) EndedAt: 2024-03-04 00:38:56 -0500 (Mon, 04 Mar 2024) EllapsedTime: 12.3 seconds RetCode: 0 Status: OK PackageFile: DNAcopy_1.76.0.tgz PackageFileSize: 500.2 KiB