Package: DNAcopy Version: 1.76.0 Command: /home/biocbuild/R/R-4.3.1/bin/R CMD build --keep-empty-dirs --no-resave-data DNAcopy StartedAt: 2023-11-02 00:27:23 -0000 (Thu, 02 Nov 2023) EndedAt: 2023-11-02 00:27:32 -0000 (Thu, 02 Nov 2023) EllapsedTime: 9.0 seconds RetCode: 0 Status: OK PackageFile: DNAcopy_1.76.0.tar.gz PackageFileSize: 395.2 KiB