Package: DNABarcodes Version: 1.32.0 Command: /home/biocbuild/bbs-3.18-bioc/R/bin/R CMD check --install=check:DNABarcodes.install-out.txt --library=/home/biocbuild/bbs-3.18-bioc/R/site-library --timings DNABarcodes_1.32.0.tar.gz StartedAt: 2024-04-15 22:16:18 -0400 (Mon, 15 Apr 2024) EndedAt: 2024-04-15 22:17:20 -0400 (Mon, 15 Apr 2024) EllapsedTime: 61.6 seconds RetCode: 0 Status: OK CheckDir: DNABarcodes.Rcheck Warnings: 0