Package: DMRcate Version: 2.16.1 Command: /home/biocbuild/bbs-3.18-bioc/R/bin/R CMD check --install=check:DMRcate.install-out.txt --library=/home/biocbuild/bbs-3.18-bioc/R/site-library --timings DMRcate_2.16.1.tar.gz StartedAt: 2024-04-15 22:13:50 -0400 (Mon, 15 Apr 2024) EndedAt: 2024-04-15 22:53:50 -0400 (Mon, 15 Apr 2024) EllapsedTime: 2400.3 seconds RetCode: None Status: TIMEOUT CheckDir: DMRcate.Rcheck Warnings: NA