Package: DMRcate Version: 2.16.1 Command: /home/biocbuild/bbs-3.18-bioc/R/bin/R CMD build --keep-empty-dirs --no-resave-data DMRcate StartedAt: 2024-04-15 16:52:15 -0400 (Mon, 15 Apr 2024) EndedAt: 2024-04-15 17:03:28 -0400 (Mon, 15 Apr 2024) EllapsedTime: 673.4 seconds RetCode: 0 Status: OK PackageFile: DMRcate_2.16.1.tar.gz PackageFileSize: 346.4 KiB