Package: DMRcaller Version: 1.34.0 Command: /Library/Frameworks/R.framework/Resources/bin/R CMD INSTALL DMRcaller StartedAt: 2024-03-03 15:08:28 -0500 (Sun, 03 Mar 2024) EndedAt: 2024-03-03 15:08:52 -0500 (Sun, 03 Mar 2024) EllapsedTime: 24.1 seconds RetCode: 0 Status: OK