Package: DExMA Version: 1.10.7 Command: /home/biocbuild/bbs-3.18-bioc/R/bin/R CMD check --install=check:DExMA.install-out.txt --library=/home/biocbuild/bbs-3.18-bioc/R/site-library --timings DExMA_1.10.7.tar.gz StartedAt: 2024-04-15 22:07:42 -0400 (Mon, 15 Apr 2024) EndedAt: 2024-04-15 22:11:00 -0400 (Mon, 15 Apr 2024) EllapsedTime: 197.6 seconds RetCode: 0 Status: OK CheckDir: DExMA.Rcheck Warnings: 0