Package: DExMA Version: 1.10.7 Command: /home/biocbuild/bbs-3.18-bioc/R/bin/R CMD build --keep-empty-dirs --no-resave-data DExMA StartedAt: 2024-04-15 16:49:29 -0400 (Mon, 15 Apr 2024) EndedAt: 2024-04-15 16:50:09 -0400 (Mon, 15 Apr 2024) EllapsedTime: 40.6 seconds RetCode: 0 Status: OK PackageFile: DExMA_1.10.7.tar.gz PackageFileSize: 314.5 KiB