Package: DEsubs Version: 1.28.0 Command: rm -rf DEsubs.buildbin-libdir && mkdir DEsubs.buildbin-libdir && F:\biocbuild\bbs-3.18-bioc\R\bin\R.exe CMD INSTALL --build --library=DEsubs.buildbin-libdir DEsubs_1.28.0.tar.gz StartedAt: 2024-04-16 06:55:06 -0400 (Tue, 16 Apr 2024) EndedAt: 2024-04-16 06:55:48 -0400 (Tue, 16 Apr 2024) EllapsedTime: 42.1 seconds RetCode: 0 Status: OK PackageFile: DEsubs_1.28.0.zip PackageFileSize: 3.751 MiB