Package: DEsubs Version: 1.28.0 Command: /Library/Frameworks/R.framework/Resources/bin/R CMD build --keep-empty-dirs --no-resave-data DEsubs StartedAt: 2024-04-15 18:14:47 -0400 (Mon, 15 Apr 2024) EndedAt: 2024-04-15 18:17:09 -0400 (Mon, 15 Apr 2024) EllapsedTime: 142.8 seconds RetCode: 0 Status: OK PackageFile: DEsubs_1.28.0.tar.gz PackageFileSize: 3.971 MiB